BEGIN:VCALENDAR
VERSION:2.0
PRODID:-//Mittelschule Ober-Grafendorf - ECPv6.15.17//NONSGML v1.0//EN
CALSCALE:GREGORIAN
METHOD:PUBLISH
X-WR-CALNAME:Mittelschule Ober-Grafendorf
X-ORIGINAL-URL:https://mittelschule.schulzentrum-ober-grafendorf.at
X-WR-CALDESC:Veranstaltungen für Mittelschule Ober-Grafendorf
REFRESH-INTERVAL;VALUE=DURATION:PT1H
X-Robots-Tag:noindex
X-PUBLISHED-TTL:PT1H
BEGIN:VTIMEZONE
TZID:Europe/Berlin
BEGIN:DAYLIGHT
TZOFFSETFROM:+0100
TZOFFSETTO:+0200
TZNAME:CEST
DTSTART:20250330T010000
END:DAYLIGHT
BEGIN:STANDARD
TZOFFSETFROM:+0200
TZOFFSETTO:+0100
TZNAME:CET
DTSTART:20251026T010000
END:STANDARD
BEGIN:DAYLIGHT
TZOFFSETFROM:+0100
TZOFFSETTO:+0200
TZNAME:CEST
DTSTART:20260329T010000
END:DAYLIGHT
BEGIN:STANDARD
TZOFFSETFROM:+0200
TZOFFSETTO:+0100
TZNAME:CET
DTSTART:20261025T010000
END:STANDARD
BEGIN:DAYLIGHT
TZOFFSETFROM:+0100
TZOFFSETTO:+0200
TZNAME:CEST
DTSTART:20270328T010000
END:DAYLIGHT
BEGIN:STANDARD
TZOFFSETFROM:+0200
TZOFFSETTO:+0100
TZNAME:CET
DTSTART:20271031T010000
END:STANDARD
END:VTIMEZONE
BEGIN:VEVENT
DTSTART;VALUE=DATE:20260501
DTEND;VALUE=DATE:20260502
DTSTAMP:20260419T145759
CREATED:20250902T114906Z
LAST-MODIFIED:20250902T114906Z
UID:3706-1777593600-1777679999@mittelschule.schulzentrum-ober-grafendorf.at
SUMMARY:Staatsfeiertag
DESCRIPTION:
URL:https://mittelschule.schulzentrum-ober-grafendorf.at/event/staatsfeiertag-6/
END:VEVENT
BEGIN:VEVENT
DTSTART;VALUE=DATE:20260512
DTEND;VALUE=DATE:20260513
DTSTAMP:20260419T145759
CREATED:20250902T120711Z
LAST-MODIFIED:20250902T120711Z
UID:3752-1778544000-1778630399@mittelschule.schulzentrum-ober-grafendorf.at
SUMMARY:Abschlusskonzert
DESCRIPTION:
URL:https://mittelschule.schulzentrum-ober-grafendorf.at/event/abschlusskonzert/
END:VEVENT
BEGIN:VEVENT
DTSTART;VALUE=DATE:20260514
DTEND;VALUE=DATE:20260515
DTSTAMP:20260419T145759
CREATED:20250902T114947Z
LAST-MODIFIED:20250902T114947Z
UID:3708-1778716800-1778803199@mittelschule.schulzentrum-ober-grafendorf.at
SUMMARY:Christi Himmelfahrt
DESCRIPTION:
URL:https://mittelschule.schulzentrum-ober-grafendorf.at/event/christi-himmelfahrt/
END:VEVENT
BEGIN:VEVENT
DTSTART;VALUE=DATE:20260523
DTEND;VALUE=DATE:20260526
DTSTAMP:20260419T145759
CREATED:20250902T115030Z
LAST-MODIFIED:20250902T115030Z
UID:3710-1779494400-1779753599@mittelschule.schulzentrum-ober-grafendorf.at
SUMMARY:Pfingstferien
DESCRIPTION:
URL:https://mittelschule.schulzentrum-ober-grafendorf.at/event/pfingstferien-2/
END:VEVENT
BEGIN:VEVENT
DTSTART;VALUE=DATE:20260526
DTEND;VALUE=DATE:20260530
DTSTAMP:20260419T145759
CREATED:20250902T120139Z
LAST-MODIFIED:20250902T120139Z
UID:3738-1779753600-1780099199@mittelschule.schulzentrum-ober-grafendorf.at
SUMMARY:Projektwoche 1. Klassen
DESCRIPTION:
URL:https://mittelschule.schulzentrum-ober-grafendorf.at/event/projektwoche-1-klassen-3/
END:VEVENT
BEGIN:VEVENT
DTSTART;VALUE=DATE:20260604
DTEND;VALUE=DATE:20260605
DTSTAMP:20260419T145759
CREATED:20250902T115114Z
LAST-MODIFIED:20250902T115114Z
UID:3712-1780531200-1780617599@mittelschule.schulzentrum-ober-grafendorf.at
SUMMARY:Fronleichnam
DESCRIPTION:
URL:https://mittelschule.schulzentrum-ober-grafendorf.at/event/fronleichnam/
END:VEVENT
BEGIN:VEVENT
DTSTART;VALUE=DATE:20260605
DTEND;VALUE=DATE:20260606
DTSTAMP:20260419T145759
CREATED:20250902T120751Z
LAST-MODIFIED:20250902T120751Z
UID:3754-1780617600-1780703999@mittelschule.schulzentrum-ober-grafendorf.at
SUMMARY:Schulautonom frei
DESCRIPTION:
URL:https://mittelschule.schulzentrum-ober-grafendorf.at/event/schulautonom-frei-4/
END:VEVENT
BEGIN:VEVENT
DTSTART;VALUE=DATE:20260608
DTEND;VALUE=DATE:20260613
DTSTAMP:20260419T145759
CREATED:20250902T120051Z
LAST-MODIFIED:20250902T120051Z
UID:3736-1780876800-1781308799@mittelschule.schulzentrum-ober-grafendorf.at
SUMMARY:Sportwoche 4. Klassen
DESCRIPTION:
URL:https://mittelschule.schulzentrum-ober-grafendorf.at/event/sportwoche-4-klassen-2/
END:VEVENT
BEGIN:VEVENT
DTSTART;VALUE=DATE:20260703
DTEND;VALUE=DATE:20260704
DTSTAMP:20260419T145759
CREATED:20250902T115152Z
LAST-MODIFIED:20250902T115152Z
UID:3714-1783036800-1783123199@mittelschule.schulzentrum-ober-grafendorf.at
SUMMARY:Zeugnisverteilung
DESCRIPTION:
URL:https://mittelschule.schulzentrum-ober-grafendorf.at/event/zeugnisverteilung-3/
END:VEVENT
BEGIN:VEVENT
DTSTART;VALUE=DATE:20260704
DTEND;VALUE=DATE:20260907
DTSTAMP:20260419T145759
CREATED:20250902T115308Z
LAST-MODIFIED:20250902T115308Z
UID:3716-1783123200-1788739199@mittelschule.schulzentrum-ober-grafendorf.at
SUMMARY:Sommerferien
DESCRIPTION:
URL:https://mittelschule.schulzentrum-ober-grafendorf.at/event/sommerferien-2/
END:VEVENT
END:VCALENDAR